BEGIN:VCALENDAR
VERSION:2.0
PRODID:-//Main Street Vineyard Church - Plainfield, Indiana - ECPv6.2.0.1//NONSGML v1.0//EN
CALSCALE:GREGORIAN
METHOD:PUBLISH
X-WR-CALNAME:Main Street Vineyard Church - Plainfield, Indiana
X-ORIGINAL-URL:https://mainstreetvineyard.org
X-WR-CALDESC:Events for Main Street Vineyard Church - Plainfield, Indiana
REFRESH-INTERVAL;VALUE=DURATION:PT1H
X-Robots-Tag:noindex
X-PUBLISHED-TTL:PT1H
BEGIN:VTIMEZONE
TZID:America/Indiana/Indianapolis
BEGIN:DAYLIGHT
TZOFFSETFROM:-0500
TZOFFSETTO:-0400
TZNAME:EDT
DTSTART:20240310T070000
END:DAYLIGHT
BEGIN:STANDARD
TZOFFSETFROM:-0400
TZOFFSETTO:-0500
TZNAME:EST
DTSTART:20241103T060000
END:STANDARD
END:VTIMEZONE
BEGIN:VEVENT
DTSTART;TZID=America/Indiana/Indianapolis:20240802T183000
DTEND;TZID=America/Indiana/Indianapolis:20240802T210000
DTSTAMP:20260418T152509
CREATED:20240317T220616Z
LAST-MODIFIED:20240725T201152Z
UID:1041-1722623400-1722632400@mainstreetvineyard.org
SUMMARY:First Friday Fellowship
DESCRIPTION:Join us for trivia and tacos! No need to have experience with trivia as it is general knowledge trivia\, so you do not need to be an expert at anything.  Come hang out and get to know people better\, have an evening of fellowship\, laughs\, and of course build your own taco bar. All food and fun provided!
URL:https://mainstreetvineyard.org/event/first-friday-event/
CATEGORIES:Featured,Main Calendar
ATTACH;FMTTYPE=image/png:https://mainstreetvineyard.org/wp-content/uploads/2024/03/tivia.png
END:VEVENT
BEGIN:VEVENT
DTSTART;TZID=America/Indiana/Indianapolis:20240818T123000
DTEND;TZID=America/Indiana/Indianapolis:20240818T133000
DTSTAMP:20260418T152509
CREATED:20240811T224630Z
LAST-MODIFIED:20240811T224630Z
UID:1087-1723984200-1723987800@mainstreetvineyard.org
SUMMARY:Ice Cream Social!
DESCRIPTION:Join us after the Sunday morning service for an Ice Cream Social!!! This will be in place of our Breaking Bread Pitch In for the month of August. Plan to attend for a fun time of fellowship and invite your family and friends!
URL:https://mainstreetvineyard.org/event/ice-cream-social/
CATEGORIES:Featured,Main Calendar
ATTACH;FMTTYPE=image/jpeg:https://mainstreetvineyard.org/wp-content/uploads/2024/08/Icecream1.jpg
END:VEVENT
END:VCALENDAR