BEGIN:VCALENDAR
VERSION:2.0
PRODID:-//Main Street Vineyard Church - Plainfield, Indiana - ECPv6.2.0.1//NONSGML v1.0//EN
CALSCALE:GREGORIAN
METHOD:PUBLISH
X-WR-CALNAME:Main Street Vineyard Church - Plainfield, Indiana
X-ORIGINAL-URL:https://mainstreetvineyard.org
X-WR-CALDESC:Events for Main Street Vineyard Church - Plainfield, Indiana
REFRESH-INTERVAL;VALUE=DURATION:PT1H
X-Robots-Tag:noindex
X-PUBLISHED-TTL:PT1H
BEGIN:VTIMEZONE
TZID:America/Indiana/Indianapolis
BEGIN:DAYLIGHT
TZOFFSETFROM:-0500
TZOFFSETTO:-0400
TZNAME:EDT
DTSTART:20230312T070000
END:DAYLIGHT
BEGIN:STANDARD
TZOFFSETFROM:-0400
TZOFFSETTO:-0500
TZNAME:EST
DTSTART:20231105T060000
END:STANDARD
BEGIN:DAYLIGHT
TZOFFSETFROM:-0500
TZOFFSETTO:-0400
TZNAME:EDT
DTSTART:20240310T070000
END:DAYLIGHT
BEGIN:STANDARD
TZOFFSETFROM:-0400
TZOFFSETTO:-0500
TZNAME:EST
DTSTART:20241103T060000
END:STANDARD
END:VTIMEZONE
BEGIN:VEVENT
DTSTART;TZID=America/Indiana/Indianapolis:20230826T090000
DTEND;TZID=America/Indiana/Indianapolis:20240330T110000
DTSTAMP:20260420T174455
CREATED:20230819T223928Z
LAST-MODIFIED:20230905T133015Z
UID:924-1693040400-1711796400@mainstreetvineyard.org
SUMMARY:No Men's Breakfast For August
DESCRIPTION:Join us the last Saturday of the month from 9:00 – 11:00 at the church for a free breakfast. Fellowship and inspiration.
URL:https://mainstreetvineyard.org/event/mens-breakfast-3-2-2/
ATTACH;FMTTYPE=image/jpeg:https://mainstreetvineyard.org/wp-content/uploads/2022/12/mens-breakfast-2023.jpg
END:VEVENT
BEGIN:VEVENT
DTSTART;TZID=America/Indiana/Indianapolis:20240301T190000
DTEND;TZID=America/Indiana/Indianapolis:20240301T210000
DTSTAMP:20260420T174455
CREATED:20240220T162921Z
LAST-MODIFIED:20240220T162921Z
UID:1029-1709319600-1709326800@mainstreetvineyard.org
SUMMARY:Trivia Night
DESCRIPTION:Build your trivia team now. There will be general trivia and there may be some Bible trivia included as well. Pizza\, drinks\, and dessert will be served. \nThis is a perfect opportunity to invite your friends and family to a fun event. \nLet Charity Stewart know if you plan to attend so that we have enough refreshments. \nWe are unable to provide childcare for this event.
URL:https://mainstreetvineyard.org/event/trivia-night/
CATEGORIES:Featured,Main Calendar
ATTACH;FMTTYPE=image/jpeg:https://mainstreetvineyard.org/wp-content/uploads/2024/02/Trivia2.jpg
END:VEVENT
BEGIN:VEVENT
DTSTART;TZID=America/Indiana/Indianapolis:20240330T083000
DTEND;TZID=America/Indiana/Indianapolis:20240330T103000
DTSTAMP:20260420T174455
CREATED:20240124T171203Z
LAST-MODIFIED:20240317T220743Z
UID:1014-1711787400-1711794600@mainstreetvineyard.org
SUMMARY:33 The Series Authentic Manhood Men’s Group
DESCRIPTION:Saturday 2/3 and meets every other week (concludes 4/13) 8:30am at the home of Jeff Thomas. \nWe are on Volume #5 A Man and His Marriage\, and books will be provided contact Jeff at 317-490-0805 for information. All men welcome to join as we strengthen relationships!
URL:https://mainstreetvineyard.org/event/33-the-series-authentic-manhood-mens-group/
CATEGORIES:Featured,Main Calendar
ATTACH;FMTTYPE=image/jpeg:https://mainstreetvineyard.org/wp-content/uploads/2024/01/IMG_20240121_163540242-resize-600x600-Black.jpg
END:VEVENT
END:VCALENDAR