BEGIN:VCALENDAR
VERSION:2.0
PRODID:-//Main Street Vineyard Church - Plainfield, Indiana - ECPv6.2.0.1//NONSGML v1.0//EN
CALSCALE:GREGORIAN
METHOD:PUBLISH
X-WR-CALNAME:Main Street Vineyard Church - Plainfield, Indiana
X-ORIGINAL-URL:https://mainstreetvineyard.org
X-WR-CALDESC:Events for Main Street Vineyard Church - Plainfield, Indiana
REFRESH-INTERVAL;VALUE=DURATION:PT1H
X-Robots-Tag:noindex
X-PUBLISHED-TTL:PT1H
BEGIN:VTIMEZONE
TZID:America/Indiana/Indianapolis
BEGIN:DAYLIGHT
TZOFFSETFROM:-0500
TZOFFSETTO:-0400
TZNAME:EDT
DTSTART:20230312T070000
END:DAYLIGHT
BEGIN:STANDARD
TZOFFSETFROM:-0400
TZOFFSETTO:-0500
TZNAME:EST
DTSTART:20231105T060000
END:STANDARD
BEGIN:DAYLIGHT
TZOFFSETFROM:-0500
TZOFFSETTO:-0400
TZNAME:EDT
DTSTART:20240310T070000
END:DAYLIGHT
BEGIN:STANDARD
TZOFFSETFROM:-0400
TZOFFSETTO:-0500
TZNAME:EST
DTSTART:20241103T060000
END:STANDARD
BEGIN:DAYLIGHT
TZOFFSETFROM:-0500
TZOFFSETTO:-0400
TZNAME:EDT
DTSTART:20250309T070000
END:DAYLIGHT
BEGIN:STANDARD
TZOFFSETFROM:-0400
TZOFFSETTO:-0500
TZNAME:EST
DTSTART:20251102T060000
END:STANDARD
END:VTIMEZONE
BEGIN:VEVENT
DTSTART;TZID=America/Indiana/Indianapolis:20230324T183000
DTEND;TZID=America/Indiana/Indianapolis:20230324T203000
DTSTAMP:20260420T233237
CREATED:20230307T155213Z
LAST-MODIFIED:20230309T162930Z
UID:794-1679682600-1679689800@mainstreetvineyard.org
SUMMARY:Ladies Night Out
DESCRIPTION:Join us at the home of Sabrina Dees for a fun evening of fellowship\, faith and some worship karaoke songs!   Bring a snack to share and invite a friend!  Contact Sabrina at (605) 525-6876 for the address.
URL:https://mainstreetvineyard.org/event/ladies-night-out/
CATEGORIES:Featured,Main Calendar
ATTACH;FMTTYPE=image/jpeg:https://mainstreetvineyard.org/wp-content/uploads/2023/03/Night-Out.jpg
END:VEVENT
BEGIN:VEVENT
DTSTART;TZID=America/Indiana/Indianapolis:20230402T103000
DTEND;TZID=America/Indiana/Indianapolis:20230402T113000
DTSTAMP:20260420T233237
CREATED:20230317T184417Z
LAST-MODIFIED:20230323T171940Z
UID:808-1680431400-1680435000@mainstreetvineyard.org
SUMMARY:Remembrance Service
DESCRIPTION:Remembrance Service Palm Sunday\, April 2 during the service at 10:30 am.  Join us for a close up look into the three days before Jesus was crucified.
URL:https://mainstreetvineyard.org/event/remembrance-service/
CATEGORIES:Featured,Main Calendar
ATTACH;FMTTYPE=image/jpeg:https://mainstreetvineyard.org/wp-content/uploads/2023/03/Jesus6-e1679079123341.jpg
END:VEVENT
BEGIN:VEVENT
DTSTART;TZID=America/Indiana/Indianapolis:20230421T183000
DTEND;TZID=America/Indiana/Indianapolis:20230421T210000
DTSTAMP:20260420T233237
CREATED:20230410T160336Z
LAST-MODIFIED:20230410T160336Z
UID:821-1682101800-1682110800@mainstreetvineyard.org
SUMMARY:Ladies Night Out
DESCRIPTION:Join us for a fun evening of friends\, food and games at the home of Meghan Bass. Invite a friend to join in!  Bring a dish to share and a game!  RSVP to Meghan at 317-627-8718
URL:https://mainstreetvineyard.org/event/ladies-night-out-2/
CATEGORIES:Featured,Main Calendar
ATTACH;FMTTYPE=image/jpeg:https://mainstreetvineyard.org/wp-content/uploads/2023/03/Night-Out.jpg
END:VEVENT
BEGIN:VEVENT
DTSTART;TZID=America/Indiana/Indianapolis:20230429T090000
DTEND;TZID=America/Indiana/Indianapolis:20230429T110000
DTSTAMP:20260420T233237
CREATED:20230326T170940Z
LAST-MODIFIED:20230326T170940Z
UID:817-1682758800-1682766000@mainstreetvineyard.org
SUMMARY:Men's Breakfast
DESCRIPTION:Join us the last Saturday of the month from 9:00 – 11:00 at the church for a free breakfast. Fellowship and inspiration.
URL:https://mainstreetvineyard.org/event/mens-breakfast-3/
CATEGORIES:Featured,Main Calendar
ATTACH;FMTTYPE=image/jpeg:https://mainstreetvineyard.org/wp-content/uploads/2022/12/mens-breakfast-2023.jpg
END:VEVENT
BEGIN:VEVENT
DTSTART;TZID=America/Indiana/Indianapolis:20230513T100000
DTEND;TZID=America/Indiana/Indianapolis:20230514T110000
DTSTAMP:20260420T233237
CREATED:20230323T172116Z
LAST-MODIFIED:20230428T202410Z
UID:811-1683972000-1684062000@mainstreetvineyard.org
SUMMARY:Mother's Day Outreach
DESCRIPTION:Mother’s Day Weekend Outreach Help spread a little cheer to Kinnley Court Residents this Mother’s Day Weekend and invite the kids.  We’ll be handing out flowers and offering prayers. Plan to meet at the Entrance of Kinnley Court 3650 Clark’s Creek Rd\, Plainfield. Contact Kim or Shirley for more information
URL:https://mainstreetvineyard.org/event/mothers-day-outreach/
CATEGORIES:Featured,Main Calendar
ATTACH;FMTTYPE=image/jpeg:https://mainstreetvineyard.org/wp-content/uploads/2023/04/Mother-Day-new-1-e1681153297414.jpg
END:VEVENT
BEGIN:VEVENT
DTSTART;TZID=America/Indiana/Indianapolis:20230519T190000
DTEND;TZID=America/Indiana/Indianapolis:20230519T210000
DTSTAMP:20260420T233237
CREATED:20230428T192357Z
LAST-MODIFIED:20230505T183840Z
UID:842-1684522800-1684530000@mainstreetvineyard.org
SUMMARY:Ladies Night Out
DESCRIPTION:Join us for our May Ladies Night Out at the home of Hillary Andrews – bring a lawn chair and a snack to share if you would like.  Come join in as we enjoy a night of laughs\, friendship and faith!  Contact Hillary at 317-995-3298 for more information.
URL:https://mainstreetvineyard.org/event/ladies-night-out-3/
CATEGORIES:Featured,Main Calendar
ATTACH;FMTTYPE=image/jpeg:https://mainstreetvineyard.org/wp-content/uploads/2023/03/Night-Out.jpg
END:VEVENT
BEGIN:VEVENT
DTSTART;TZID=America/Indiana/Indianapolis:20230521T180000
DTEND;TZID=America/Indiana/Indianapolis:20230521T200000
DTSTAMP:20260420T233237
CREATED:20230428T200259Z
LAST-MODIFIED:20230428T202101Z
UID:845-1684692000-1684699200@mainstreetvineyard.org
SUMMARY:Family Night Parrish Farm
DESCRIPTION:Family Night at the Parrish Farm on Sunday\, May 21 at 6:00 pm.  Join your church family for a fun evening of music\, a petting zoo\, games and a cookout.  Bring a side dish and your lawn chair !
URL:https://mainstreetvineyard.org/event/family-night-parrish-farm/
CATEGORIES:Featured,Main Calendar
ATTACH;FMTTYPE=image/jpeg:https://mainstreetvineyard.org/wp-content/uploads/2023/04/Family3-e1682713131337.jpg
END:VEVENT
BEGIN:VEVENT
DTSTART;TZID=America/Indiana/Indianapolis:20230616T181500
DTEND;TZID=America/Indiana/Indianapolis:20230616T210000
DTSTAMP:20260420T233237
CREATED:20230522T123639Z
LAST-MODIFIED:20230522T123639Z
UID:853-1686939300-1686949200@mainstreetvineyard.org
SUMMARY:Ladies Night Out
DESCRIPTION:Ladies meet at the church at 6:15 and we will head to Music on Main with Jennie DeVoe!  This will be on the Plainfield Friends Church Lawn so bring a chair or blanket and join us for an evening of music and fun.  Food and beverage vendors will be available or bring your own snacks!
URL:https://mainstreetvineyard.org/event/ladies-night-out-4/
CATEGORIES:Featured,Main Calendar
ATTACH;FMTTYPE=image/jpeg:https://mainstreetvineyard.org/wp-content/uploads/2023/03/Night-Out.jpg
END:VEVENT
BEGIN:VEVENT
DTSTART;TZID=America/Indiana/Indianapolis:20230618T103000
DTEND;TZID=America/Indiana/Indianapolis:20230618T130000
DTSTAMP:20260420T233237
CREATED:20230602T194918Z
LAST-MODIFIED:20230602T232532Z
UID:858-1687084200-1687093200@mainstreetvineyard.org
SUMMARY:Father's Day Service at the Parrish Farm
DESCRIPTION:Enjoy Father’s Day Service at the Parrish Farm – Billy Wallace will be our speaker for our service.  Enjoy a day on the farm celebrating “Fathers” with our church family.  Bring a chair\, a side dish to share and a canopy if you wish.  7075 E. County Road 675 S\, Plainfield. \n  \n 
URL:https://mainstreetvineyard.org/event/fathers-day-service-at-the-parrish-farm/
CATEGORIES:Featured,Main Calendar
ATTACH;FMTTYPE=image/jpeg:https://mainstreetvineyard.org/wp-content/uploads/2023/06/Fathers-Day_1-e1685737905498.jpg
END:VEVENT
BEGIN:VEVENT
DTSTART;TZID=America/Indiana/Indianapolis:20230619T180000
DTEND;TZID=America/Indiana/Indianapolis:20230710T200000
DTSTAMP:20260420T233237
CREATED:20230615T213857Z
LAST-MODIFIED:20230730T190647Z
UID:886-1687197600-1689019200@mainstreetvineyard.org
SUMMARY:Discipleship Bible Study
DESCRIPTION:This study will be held at Billy and Stefanie Wallace’s home at 2778 Bluewood Way\, Plainfield. Dinner starts at 6:00pm and study starts at 6:30pm.  The book we will be using is Disciple Making Is… How to Live the Great Commision with Passion and Confidence.  Everyone is welcome to attend and any questions contact Billy at 317-726-7210.
URL:https://mainstreetvineyard.org/event/discipleship-bible-study/
CATEGORIES:Featured,Main Calendar
ATTACH;FMTTYPE=image/jpeg:https://mainstreetvineyard.org/wp-content/uploads/2023/06/41sQUDQHrpL._AC_UF10001000_QL80-resized-600x600-black-sides_-1.jpg
END:VEVENT
BEGIN:VEVENT
DTSTART;TZID=America/Indiana/Indianapolis:20230619T180000
DTEND;TZID=America/Indiana/Indianapolis:20230710T200000
DTSTAMP:20260420T233237
CREATED:20230615T213857Z
LAST-MODIFIED:20230730T190647Z
UID:886-1687197600-1689019200@mainstreetvineyard.org
SUMMARY:Discipleship Bible Study
DESCRIPTION:This study will be held at Billy and Stefanie Wallace’s home at 2778 Bluewood Way\, Plainfield. Dinner starts at 6:00pm and study starts at 6:30pm.  The book we will be using is Disciple Making Is… How to Live the Great Commision with Passion and Confidence.  Everyone is welcome to attend and any questions contact Billy at 317-726-7210.
URL:https://mainstreetvineyard.org/event/discipleship-bible-study/
CATEGORIES:Featured,Main Calendar
ATTACH;FMTTYPE=image/jpeg:https://mainstreetvineyard.org/wp-content/uploads/2023/06/41sQUDQHrpL._AC_UF10001000_QL80-resized-600x600-black-sides_-1.jpg
END:VEVENT
BEGIN:VEVENT
DTSTART;TZID=America/Indiana/Indianapolis:20230619T180000
DTEND;TZID=America/Indiana/Indianapolis:20230710T200000
DTSTAMP:20260420T233237
CREATED:20230615T213857Z
LAST-MODIFIED:20230730T190647Z
UID:886-1687197600-1689019200@mainstreetvineyard.org
SUMMARY:Discipleship Bible Study
DESCRIPTION:This study will be held at Billy and Stefanie Wallace’s home at 2778 Bluewood Way\, Plainfield. Dinner starts at 6:00pm and study starts at 6:30pm.  The book we will be using is Disciple Making Is… How to Live the Great Commision with Passion and Confidence.  Everyone is welcome to attend and any questions contact Billy at 317-726-7210.
URL:https://mainstreetvineyard.org/event/discipleship-bible-study/
CATEGORIES:Featured,Main Calendar
ATTACH;FMTTYPE=image/jpeg:https://mainstreetvineyard.org/wp-content/uploads/2023/06/41sQUDQHrpL._AC_UF10001000_QL80-resized-600x600-black-sides_-1.jpg
END:VEVENT
BEGIN:VEVENT
DTSTART;TZID=America/Indiana/Indianapolis:20230707T094500
DTEND;TZID=America/Indiana/Indianapolis:20230707T113000
DTSTAMP:20260420T233237
CREATED:20230704T221201Z
LAST-MODIFIED:20230704T221235Z
UID:905-1688723100-1688729400@mainstreetvineyard.org
SUMMARY:Breakfast and a Movie
DESCRIPTION:Join us Friday the 7th @ 9:45 for breakfast and then we will enjoy the movie The Book of Ruth to close our study on Ruth! Plan to join us!! \n 
URL:https://mainstreetvineyard.org/event/breakfast-and-a-movie/
CATEGORIES:Featured,Main Calendar
ATTACH;FMTTYPE=image/jpeg:https://mainstreetvineyard.org/wp-content/uploads/2022/12/93781100_10219768213212592_7209391610390380544_o-e1673290131285.jpg
END:VEVENT
BEGIN:VEVENT
DTSTART;TZID=America/Indiana/Indianapolis:20230824T180000
DTEND;TZID=America/Indiana/Indianapolis:20230824T203000
DTSTAMP:20260420T233237
CREATED:20230804T193044Z
LAST-MODIFIED:20230804T193044Z
UID:917-1692900000-1692909000@mainstreetvineyard.org
SUMMARY:Ladies Night Out
DESCRIPTION:Join us at the home of Teresa Elmore\, 105 S 3rd Avenue\, Beech Grove.  Get swimsuits ready and come relax by the pool\, eat\, worship and pray with us.  Teresa will provide hamburgers and hotdogs.  Bring a side dish to share if you like. Join us for a fun evening and bring a friend.  Questions call Teresa at 317-506-0992\,
URL:https://mainstreetvineyard.org/event/ladies-night-out-5/
CATEGORIES:Featured,Main Calendar
ATTACH;FMTTYPE=image/jpeg:https://mainstreetvineyard.org/wp-content/uploads/2023/03/Night-Out.jpg
END:VEVENT
BEGIN:VEVENT
DTSTART;TZID=America/Indiana/Indianapolis:20230916T180000
DTEND;TZID=America/Indiana/Indianapolis:20230916T210000
DTSTAMP:20260420T233237
CREATED:20230828T163935Z
LAST-MODIFIED:20230907T000212Z
UID:940-1694887200-1694898000@mainstreetvineyard.org
SUMMARY:Ladies Night Out
DESCRIPTION:Come relax by the fire enjoy some smores and other treats at the home of Kim Thomas!  Bring something to share if you like and we will have a fun evening of fellowship!  Come any time after 6:00pm.
URL:https://mainstreetvineyard.org/event/ladies-night-out-6/
CATEGORIES:Featured,Main Calendar
ATTACH;FMTTYPE=image/jpeg:https://mainstreetvineyard.org/wp-content/uploads/2023/03/Night-Out.jpg
END:VEVENT
BEGIN:VEVENT
DTSTART;TZID=America/Indiana/Indianapolis:20230930T090000
DTEND;TZID=America/Indiana/Indianapolis:20230930T110000
DTSTAMP:20260420T233237
CREATED:20230905T133616Z
LAST-MODIFIED:20230911T182531Z
UID:946-1696064400-1696071600@mainstreetvineyard.org
SUMMARY:No Men's Breakfast for September
DESCRIPTION:Join us the last Saturday of the month from 9:00 – 11:00 at the church for a free breakfast. Fellowship and inspiration.
URL:https://mainstreetvineyard.org/event/mens-breakfast-4/
CATEGORIES:Featured,Main Calendar
ATTACH;FMTTYPE=image/jpeg:https://mainstreetvineyard.org/wp-content/uploads/2022/12/mens-breakfast-2023.jpg
END:VEVENT
BEGIN:VEVENT
DTSTART;VALUE=DATE:20231006
DTEND;VALUE=DATE:20231009
DTSTAMP:20260420T233237
CREATED:20230828T171437Z
LAST-MODIFIED:20230927T163401Z
UID:942-1696550400-1696809599@mainstreetvineyard.org
SUMMARY:Ladies Retreat - Come Holy Spirit
DESCRIPTION:Join us for our annual ladies retreat at McCormick’s Creek State Park.  Come for one night or stay two nights!  Address 250 McCormick Creek Park Road\, Spencer\, IN 47460. \nPlan to arrive between 6:00-7:00pm\, we will have hotdogs and fellowship.  (Friday Night) \nPlan to arrive between 7:30-9:00am for breakfast and worship if you are coming on Saturday. \nThe cost is $35 checks made payable to MSVC or online on the website\, please include note women’s retreat. \nPlease contact one of the Women’s Ministry Team members if you have any questions. \nThe deadline to sign up is October 1st. \n 
URL:https://mainstreetvineyard.org/event/ladies-retreat-come-holy-spirit/
CATEGORIES:Featured,Main Calendar
ATTACH;FMTTYPE=image/jpeg:https://mainstreetvineyard.org/wp-content/uploads/2023/08/womens-retreat_edited_edited.jpg
END:VEVENT
BEGIN:VEVENT
DTSTART;TZID=America/Indiana/Indianapolis:20231103T180000
DTEND;TZID=America/Indiana/Indianapolis:20231103T203000
DTSTAMP:20260420T233237
CREATED:20231016T145109Z
LAST-MODIFIED:20231016T145109Z
UID:966-1699034400-1699043400@mainstreetvineyard.org
SUMMARY:Ladies Night Out
DESCRIPTION:Join in for an evening of fellowship at the home of Charity Stewart!
URL:https://mainstreetvineyard.org/event/ladies-night-out-7/
CATEGORIES:Featured,Main Calendar
ATTACH;FMTTYPE=image/jpeg:https://mainstreetvineyard.org/wp-content/uploads/2023/03/Night-Out.jpg
END:VEVENT
BEGIN:VEVENT
DTSTART;TZID=America/Indiana/Indianapolis:20231202T113000
DTEND;TZID=America/Indiana/Indianapolis:20231202T133000
DTSTAMP:20260420T233237
CREATED:20231112T191618Z
LAST-MODIFIED:20231112T191618Z
UID:971-1701516600-1701523800@mainstreetvineyard.org
SUMMARY:Ladies Christmas Lunch
DESCRIPTION:Ladies join us for Christmas Lunch at 11:30 am at Quesos\, 160 Plainfield Village Drive\, Plainfield! \nA wonderful time of fellowship to start the Christmas season with friends. Plan to join us and bring a wrapped ornament for a gift exchange!
URL:https://mainstreetvineyard.org/event/ladies-christmas-lunch/
CATEGORIES:Featured,Main Calendar
ATTACH;FMTTYPE=image/jpeg:https://mainstreetvineyard.org/wp-content/uploads/2022/12/church-decor.jpg
END:VEVENT
BEGIN:VEVENT
DTSTART;TZID=America/Indiana/Indianapolis:20231224T180000
DTEND;TZID=America/Indiana/Indianapolis:20231224T200000
DTSTAMP:20260420T233237
CREATED:20231204T165826Z
LAST-MODIFIED:20231204T171754Z
UID:978-1703440800-1703448000@mainstreetvineyard.org
SUMMARY:Christmas Eve Service
DESCRIPTION:Join us for our Christmas Eve Service as we prepare our hearts for Christmas and the birth of our Savior!
URL:https://mainstreetvineyard.org/event/christmas-eve-service/
CATEGORIES:Featured,Main Calendar
ATTACH;FMTTYPE=image/jpeg:https://mainstreetvineyard.org/wp-content/uploads/2023/12/ChristmasService5-1-e1701710186296.jpg
END:VEVENT
BEGIN:VEVENT
DTSTART;TZID=America/Indiana/Indianapolis:20240215T180000
DTEND;TZID=America/Indiana/Indianapolis:20240215T200000
DTSTAMP:20260420T233237
CREATED:20240210T141302Z
LAST-MODIFIED:20240210T141302Z
UID:1026-1708020000-1708027200@mainstreetvineyard.org
SUMMARY:Ladies Night Out
DESCRIPTION:Please join us for an evening of fellowship as we spend time together with God.  Invite a friend! \nThis will be at the home of Lynda Wilson.
URL:https://mainstreetvineyard.org/event/ladies-night-out-8/
CATEGORIES:Featured,Main Calendar
ATTACH;FMTTYPE=image/jpeg:https://mainstreetvineyard.org/wp-content/uploads/2023/03/Night-Out.jpg
END:VEVENT
BEGIN:VEVENT
DTSTART;TZID=America/Indiana/Indianapolis:20240301T190000
DTEND;TZID=America/Indiana/Indianapolis:20240301T210000
DTSTAMP:20260420T233237
CREATED:20240220T162921Z
LAST-MODIFIED:20240220T162921Z
UID:1029-1709319600-1709326800@mainstreetvineyard.org
SUMMARY:Trivia Night
DESCRIPTION:Build your trivia team now. There will be general trivia and there may be some Bible trivia included as well. Pizza\, drinks\, and dessert will be served. \nThis is a perfect opportunity to invite your friends and family to a fun event. \nLet Charity Stewart know if you plan to attend so that we have enough refreshments. \nWe are unable to provide childcare for this event.
URL:https://mainstreetvineyard.org/event/trivia-night/
CATEGORIES:Featured,Main Calendar
ATTACH;FMTTYPE=image/jpeg:https://mainstreetvineyard.org/wp-content/uploads/2024/02/Trivia2.jpg
END:VEVENT
BEGIN:VEVENT
DTSTART;TZID=America/Indiana/Indianapolis:20240330T083000
DTEND;TZID=America/Indiana/Indianapolis:20240330T103000
DTSTAMP:20260420T233237
CREATED:20240124T171203Z
LAST-MODIFIED:20240317T220743Z
UID:1014-1711787400-1711794600@mainstreetvineyard.org
SUMMARY:33 The Series Authentic Manhood Men’s Group
DESCRIPTION:Saturday 2/3 and meets every other week (concludes 4/13) 8:30am at the home of Jeff Thomas. \nWe are on Volume #5 A Man and His Marriage\, and books will be provided contact Jeff at 317-490-0805 for information. All men welcome to join as we strengthen relationships!
URL:https://mainstreetvineyard.org/event/33-the-series-authentic-manhood-mens-group/
CATEGORIES:Featured,Main Calendar
ATTACH;FMTTYPE=image/jpeg:https://mainstreetvineyard.org/wp-content/uploads/2024/01/IMG_20240121_163540242-resize-600x600-Black.jpg
END:VEVENT
BEGIN:VEVENT
DTSTART;TZID=America/Indiana/Indianapolis:20240802T183000
DTEND;TZID=America/Indiana/Indianapolis:20240802T210000
DTSTAMP:20260420T233237
CREATED:20240317T220616Z
LAST-MODIFIED:20240725T201152Z
UID:1041-1722623400-1722632400@mainstreetvineyard.org
SUMMARY:First Friday Fellowship
DESCRIPTION:Join us for trivia and tacos! No need to have experience with trivia as it is general knowledge trivia\, so you do not need to be an expert at anything.  Come hang out and get to know people better\, have an evening of fellowship\, laughs\, and of course build your own taco bar. All food and fun provided!
URL:https://mainstreetvineyard.org/event/first-friday-event/
CATEGORIES:Featured,Main Calendar
ATTACH;FMTTYPE=image/png:https://mainstreetvineyard.org/wp-content/uploads/2024/03/tivia.png
END:VEVENT
BEGIN:VEVENT
DTSTART;TZID=America/Indiana/Indianapolis:20240818T123000
DTEND;TZID=America/Indiana/Indianapolis:20240818T133000
DTSTAMP:20260420T233237
CREATED:20240811T224630Z
LAST-MODIFIED:20240811T224630Z
UID:1087-1723984200-1723987800@mainstreetvineyard.org
SUMMARY:Ice Cream Social!
DESCRIPTION:Join us after the Sunday morning service for an Ice Cream Social!!! This will be in place of our Breaking Bread Pitch In for the month of August. Plan to attend for a fun time of fellowship and invite your family and friends!
URL:https://mainstreetvineyard.org/event/ice-cream-social/
CATEGORIES:Featured,Main Calendar
ATTACH;FMTTYPE=image/jpeg:https://mainstreetvineyard.org/wp-content/uploads/2024/08/Icecream1.jpg
END:VEVENT
BEGIN:VEVENT
DTSTART;TZID=America/Indiana/Indianapolis:20240906T183000
DTEND;TZID=America/Indiana/Indianapolis:20240906T200000
DTSTAMP:20260420T233237
CREATED:20240903T204952Z
LAST-MODIFIED:20240903T204952Z
UID:1100-1725647400-1725652800@mainstreetvineyard.org
SUMMARY:First Friday Fellowship
DESCRIPTION:First Friday Fellowship come celebrate the end of summer with a cookout\, corn hole\, and all things summer. Food provided! Weather permitting\, we will set up in the outside walkway\, bring a lawn chair. Fun starts at 6:30pm!
URL:https://mainstreetvineyard.org/event/first-friday-fellowship/
CATEGORIES:Featured,Main Calendar
ATTACH;FMTTYPE=image/png:https://mainstreetvineyard.org/wp-content/uploads/2024/09/EndofSummer.png
END:VEVENT
BEGIN:VEVENT
DTSTART;TZID=America/Indiana/Indianapolis:20241019T100000
DTEND;TZID=America/Indiana/Indianapolis:20241019T140000
DTSTAMP:20260420T233237
CREATED:20230929T210416Z
LAST-MODIFIED:20241002T190457Z
UID:956-1729332000-1729346400@mainstreetvineyard.org
SUMMARY:The Candy Crawl
DESCRIPTION:Your invited to join the fun – we’re joining with the downtown businesses.  Come help as we pass out candy! The kids will have fun – dress up in your costume!!
URL:https://mainstreetvineyard.org/event/candy-crawl/
CATEGORIES:Featured,Main Calendar
ATTACH;FMTTYPE=image/png:https://mainstreetvineyard.org/wp-content/uploads/2023/09/candy4.png
END:VEVENT
BEGIN:VEVENT
DTSTART;TZID=America/Indiana/Indianapolis:20241224T170000
DTEND;TZID=America/Indiana/Indianapolis:20241224T200000
DTSTAMP:20260420T233237
CREATED:20241208T175232Z
LAST-MODIFIED:20241208T175501Z
UID:1132-1735059600-1735070400@mainstreetvineyard.org
SUMMARY:Christmas Eve Service
DESCRIPTION:Doors will be open at 5:00pm. This year we will be sharing appetizers\, finger foods\, dips\, and holiday goodies. Bring your favorite holiday treats to share! Our Candlelight Service will begin at 6:30pm. Come join us as we celebrate the birth of our Savior.
URL:https://mainstreetvineyard.org/event/christmas-eve-service-2/
CATEGORIES:Featured,Main Calendar
ATTACH;FMTTYPE=image/jpeg:https://mainstreetvineyard.org/wp-content/uploads/2023/12/ChristmasService5-1-e1701710186296.jpg
END:VEVENT
BEGIN:VEVENT
DTSTART;TZID=America/Indiana/Indianapolis:20241230T180000
DTEND;TZID=America/Indiana/Indianapolis:20241230T200000
DTSTAMP:20260420T233237
CREATED:20231211T160310Z
LAST-MODIFIED:20241223T151725Z
UID:987-1735581600-1735588800@mainstreetvineyard.org
SUMMARY:No Men's Bible Study Until 1/13/25
DESCRIPTION:No Men’s Manifest Monday until 1/13/2025.  We are taking a break for the Holiday Season!  We will see you in January. \nContact Us For More Details: \nJoe Dees \nCell Number: (646) 233-9859    Email: jdees9805@gmail.com \nRyan Robertson \nCell Number: (317) 910-1534    Email: ryan_rob72@hotmail.com
URL:https://mainstreetvineyard.org/event/mens-bible-study/
CATEGORIES:Featured,Main Calendar
ATTACH;FMTTYPE=image/jpeg:https://mainstreetvineyard.org/wp-content/uploads/2023/12/first-corinthian.jpg
END:VEVENT
BEGIN:VEVENT
DTSTART;TZID=America/Indiana/Indianapolis:20250131T100000
DTEND;TZID=America/Indiana/Indianapolis:20250131T113000
DTSTAMP:20260420T233237
CREATED:20230828T163051Z
LAST-MODIFIED:20250128T162339Z
UID:938-1738317600-1738323000@mainstreetvineyard.org
SUMMARY:Women's Bible Study
DESCRIPTION:Friday morning Women’s Bible study at 10:00am.  Our next study is a video series on Simplifying Revelation:  How to Read the Book of Revelation.  Come to the back door and knock.  All Ladies are welcome to join us at anytime.
URL:https://mainstreetvineyard.org/event/womens-bible-study/
CATEGORIES:Featured,Main Calendar
ATTACH;FMTTYPE=image/jpeg:https://mainstreetvineyard.org/wp-content/uploads/2023/08/BibleStudyFriday.jpeg
END:VEVENT
END:VCALENDAR