BEGIN:VCALENDAR
VERSION:2.0
PRODID:-//Main Street Vineyard Church - Plainfield, Indiana - ECPv6.2.0.1//NONSGML v1.0//EN
CALSCALE:GREGORIAN
METHOD:PUBLISH
X-WR-CALNAME:Main Street Vineyard Church - Plainfield, Indiana
X-ORIGINAL-URL:https://mainstreetvineyard.org
X-WR-CALDESC:Events for Main Street Vineyard Church - Plainfield, Indiana
REFRESH-INTERVAL;VALUE=DURATION:PT1H
X-Robots-Tag:noindex
X-PUBLISHED-TTL:PT1H
BEGIN:VTIMEZONE
TZID:America/Indiana/Indianapolis
BEGIN:DAYLIGHT
TZOFFSETFROM:-0500
TZOFFSETTO:-0400
TZNAME:EDT
DTSTART:20230312T070000
END:DAYLIGHT
BEGIN:STANDARD
TZOFFSETFROM:-0400
TZOFFSETTO:-0500
TZNAME:EST
DTSTART:20231105T060000
END:STANDARD
END:VTIMEZONE
BEGIN:VEVENT
DTSTART;TZID=America/Indiana/Indianapolis:20230619T180000
DTEND;TZID=America/Indiana/Indianapolis:20230710T200000
DTSTAMP:20260419T083059
CREATED:20230615T213857Z
LAST-MODIFIED:20230730T190647Z
UID:886-1687197600-1689019200@mainstreetvineyard.org
SUMMARY:Discipleship Bible Study
DESCRIPTION:This study will be held at Billy and Stefanie Wallace’s home at 2778 Bluewood Way\, Plainfield. Dinner starts at 6:00pm and study starts at 6:30pm.  The book we will be using is Disciple Making Is… How to Live the Great Commision with Passion and Confidence.  Everyone is welcome to attend and any questions contact Billy at 317-726-7210.
URL:https://mainstreetvineyard.org/event/discipleship-bible-study/
CATEGORIES:Featured,Main Calendar
ATTACH;FMTTYPE=image/jpeg:https://mainstreetvineyard.org/wp-content/uploads/2023/06/41sQUDQHrpL._AC_UF10001000_QL80-resized-600x600-black-sides_-1.jpg
END:VEVENT
BEGIN:VEVENT
DTSTART;TZID=America/Indiana/Indianapolis:20230619T180000
DTEND;TZID=America/Indiana/Indianapolis:20230710T200000
DTSTAMP:20260419T083059
CREATED:20230615T213857Z
LAST-MODIFIED:20230730T190647Z
UID:886-1687197600-1689019200@mainstreetvineyard.org
SUMMARY:Discipleship Bible Study
DESCRIPTION:This study will be held at Billy and Stefanie Wallace’s home at 2778 Bluewood Way\, Plainfield. Dinner starts at 6:00pm and study starts at 6:30pm.  The book we will be using is Disciple Making Is… How to Live the Great Commision with Passion and Confidence.  Everyone is welcome to attend and any questions contact Billy at 317-726-7210.
URL:https://mainstreetvineyard.org/event/discipleship-bible-study/
CATEGORIES:Featured,Main Calendar
ATTACH;FMTTYPE=image/jpeg:https://mainstreetvineyard.org/wp-content/uploads/2023/06/41sQUDQHrpL._AC_UF10001000_QL80-resized-600x600-black-sides_-1.jpg
END:VEVENT
BEGIN:VEVENT
DTSTART;TZID=America/Indiana/Indianapolis:20230619T180000
DTEND;TZID=America/Indiana/Indianapolis:20230710T200000
DTSTAMP:20260419T083059
CREATED:20230615T213857Z
LAST-MODIFIED:20230730T190647Z
UID:886-1687197600-1689019200@mainstreetvineyard.org
SUMMARY:Discipleship Bible Study
DESCRIPTION:This study will be held at Billy and Stefanie Wallace’s home at 2778 Bluewood Way\, Plainfield. Dinner starts at 6:00pm and study starts at 6:30pm.  The book we will be using is Disciple Making Is… How to Live the Great Commision with Passion and Confidence.  Everyone is welcome to attend and any questions contact Billy at 317-726-7210.
URL:https://mainstreetvineyard.org/event/discipleship-bible-study/
CATEGORIES:Featured,Main Calendar
ATTACH;FMTTYPE=image/jpeg:https://mainstreetvineyard.org/wp-content/uploads/2023/06/41sQUDQHrpL._AC_UF10001000_QL80-resized-600x600-black-sides_-1.jpg
END:VEVENT
BEGIN:VEVENT
DTSTART;TZID=America/Indiana/Indianapolis:20230707T094500
DTEND;TZID=America/Indiana/Indianapolis:20230707T113000
DTSTAMP:20260419T083059
CREATED:20230704T221201Z
LAST-MODIFIED:20230704T221235Z
UID:905-1688723100-1688729400@mainstreetvineyard.org
SUMMARY:Breakfast and a Movie
DESCRIPTION:Join us Friday the 7th @ 9:45 for breakfast and then we will enjoy the movie The Book of Ruth to close our study on Ruth! Plan to join us!! \n 
URL:https://mainstreetvineyard.org/event/breakfast-and-a-movie/
CATEGORIES:Featured,Main Calendar
ATTACH;FMTTYPE=image/jpeg:https://mainstreetvineyard.org/wp-content/uploads/2022/12/93781100_10219768213212592_7209391610390380544_o-e1673290131285.jpg
END:VEVENT
END:VCALENDAR