BEGIN:VCALENDAR
VERSION:2.0
PRODID:-//Main Street Vineyard Church - Plainfield, Indiana - ECPv6.2.0.1//NONSGML v1.0//EN
CALSCALE:GREGORIAN
METHOD:PUBLISH
X-ORIGINAL-URL:https://mainstreetvineyard.org
X-WR-CALDESC:Events for Main Street Vineyard Church - Plainfield, Indiana
REFRESH-INTERVAL;VALUE=DURATION:PT1H
X-Robots-Tag:noindex
X-PUBLISHED-TTL:PT1H
BEGIN:VTIMEZONE
TZID:America/Indiana/Indianapolis
BEGIN:DAYLIGHT
TZOFFSETFROM:-0500
TZOFFSETTO:-0400
TZNAME:EDT
DTSTART:20220313T070000
END:DAYLIGHT
BEGIN:STANDARD
TZOFFSETFROM:-0400
TZOFFSETTO:-0500
TZNAME:EST
DTSTART:20221106T060000
END:STANDARD
END:VTIMEZONE
BEGIN:VEVENT
DTSTART;TZID=America/Indiana/Indianapolis:20220827T050000
DTEND;TZID=America/Indiana/Indianapolis:20220827T070000
DTSTAMP:20260419T083927
CREATED:20220808T004320Z
LAST-MODIFIED:20230109T192639Z
UID:41-1661576400-1661583600@mainstreetvineyard.org
SUMMARY:Men's Breakfast
DESCRIPTION:Free Men’s Breakfast is the last Saturday of the month from 9 – 11 am.  Inspiration\, lots of bacon and a great time hanging out with the guys.  All are welcome.  This will be at Pastor Bob and Shirley’s house 450 Avon Ave\, Plainfield
URL:https://mainstreetvineyard.org/event/mens-breakfast/
CATEGORIES:Featured,Main Calendar
ATTACH;FMTTYPE=image/jpeg:https://mainstreetvineyard.org/wp-content/uploads/2022/12/mens-breakfast-2023.jpg
END:VEVENT
END:VCALENDAR