BEGIN:VCALENDAR
VERSION:2.0
PRODID:-//Main Street Vineyard Church - Plainfield, Indiana - ECPv6.2.0.1//NONSGML v1.0//EN
CALSCALE:GREGORIAN
METHOD:PUBLISH
X-WR-CALNAME:Main Street Vineyard Church - Plainfield, Indiana
X-ORIGINAL-URL:https://mainstreetvineyard.org
X-WR-CALDESC:Events for Main Street Vineyard Church - Plainfield, Indiana
REFRESH-INTERVAL;VALUE=DURATION:PT1H
X-Robots-Tag:noindex
X-PUBLISHED-TTL:PT1H
BEGIN:VTIMEZONE
TZID:America/Indiana/Indianapolis
BEGIN:DAYLIGHT
TZOFFSETFROM:-0500
TZOFFSETTO:-0400
TZNAME:EDT
DTSTART:20230312T070000
END:DAYLIGHT
BEGIN:STANDARD
TZOFFSETFROM:-0400
TZOFFSETTO:-0500
TZNAME:EST
DTSTART:20231105T060000
END:STANDARD
END:VTIMEZONE
BEGIN:VEVENT
DTSTART;TZID=America/Indiana/Indianapolis:20230108T120000
DTEND;TZID=America/Indiana/Indianapolis:20230108T130000
DTSTAMP:20260418T165100
CREATED:20221219T164829Z
LAST-MODIFIED:20221219T165239Z
UID:647-1673179200-1673182800@mainstreetvineyard.org
SUMMARY:Partnership Class - Experience
DESCRIPTION:If you are interested in becoming a Vineyard Church Parner join us following the church service To Experience\, Follow and Share Jesus and His Love. We will have pizza and childcare if needed
URL:https://mainstreetvineyard.org/event/partnership-class-experience/
CATEGORIES:Featured,Main Calendar
ATTACH;FMTTYPE=image/jpeg:https://mainstreetvineyard.org/wp-content/uploads/2022/12/EFS.jpg
END:VEVENT
END:VCALENDAR