BEGIN:VCALENDAR
VERSION:2.0
PRODID:-//Main Street Vineyard Church - Plainfield, Indiana - ECPv6.2.0.1//NONSGML v1.0//EN
CALSCALE:GREGORIAN
METHOD:PUBLISH
X-ORIGINAL-URL:https://mainstreetvineyard.org
X-WR-CALDESC:Events for Main Street Vineyard Church - Plainfield, Indiana
REFRESH-INTERVAL;VALUE=DURATION:PT1H
X-Robots-Tag:noindex
X-PUBLISHED-TTL:PT1H
BEGIN:VTIMEZONE
TZID:America/Indiana/Indianapolis
BEGIN:DAYLIGHT
TZOFFSETFROM:-0500
TZOFFSETTO:-0400
TZNAME:EDT
DTSTART:20230312T070000
END:DAYLIGHT
BEGIN:STANDARD
TZOFFSETFROM:-0400
TZOFFSETTO:-0500
TZNAME:EST
DTSTART:20231105T060000
END:STANDARD
END:VTIMEZONE
BEGIN:VEVENT
DTSTART;TZID=America/Indiana/Indianapolis:20230916T180000
DTEND;TZID=America/Indiana/Indianapolis:20230916T210000
DTSTAMP:20260420T072427
CREATED:20230828T163935Z
LAST-MODIFIED:20230907T000212Z
UID:940-1694887200-1694898000@mainstreetvineyard.org
SUMMARY:Ladies Night Out
DESCRIPTION:Come relax by the fire enjoy some smores and other treats at the home of Kim Thomas!  Bring something to share if you like and we will have a fun evening of fellowship!  Come any time after 6:00pm.
URL:https://mainstreetvineyard.org/event/ladies-night-out-6/
CATEGORIES:Featured,Main Calendar
ATTACH;FMTTYPE=image/jpeg:https://mainstreetvineyard.org/wp-content/uploads/2023/03/Night-Out.jpg
END:VEVENT
BEGIN:VEVENT
DTSTART;TZID=America/Indiana/Indianapolis:20230930T090000
DTEND;TZID=America/Indiana/Indianapolis:20230930T110000
DTSTAMP:20260420T072427
CREATED:20230905T133616Z
LAST-MODIFIED:20230911T182531Z
UID:946-1696064400-1696071600@mainstreetvineyard.org
SUMMARY:No Men's Breakfast for September
DESCRIPTION:Join us the last Saturday of the month from 9:00 – 11:00 at the church for a free breakfast. Fellowship and inspiration.
URL:https://mainstreetvineyard.org/event/mens-breakfast-4/
CATEGORIES:Featured,Main Calendar
ATTACH;FMTTYPE=image/jpeg:https://mainstreetvineyard.org/wp-content/uploads/2022/12/mens-breakfast-2023.jpg
END:VEVENT
END:VCALENDAR