BEGIN:VCALENDAR
VERSION:2.0
PRODID:-//Main Street Vineyard Church - Plainfield, Indiana - ECPv6.2.0.1//NONSGML v1.0//EN
CALSCALE:GREGORIAN
METHOD:PUBLISH
X-WR-CALNAME:Main Street Vineyard Church - Plainfield, Indiana
X-ORIGINAL-URL:https://mainstreetvineyard.org
X-WR-CALDESC:Events for Main Street Vineyard Church - Plainfield, Indiana
REFRESH-INTERVAL;VALUE=DURATION:PT1H
X-Robots-Tag:noindex
X-PUBLISHED-TTL:PT1H
BEGIN:VTIMEZONE
TZID:America/Indiana/Indianapolis
BEGIN:DAYLIGHT
TZOFFSETFROM:-0500
TZOFFSETTO:-0400
TZNAME:EDT
DTSTART:20230312T070000
END:DAYLIGHT
BEGIN:STANDARD
TZOFFSETFROM:-0400
TZOFFSETTO:-0500
TZNAME:EST
DTSTART:20231105T060000
END:STANDARD
END:VTIMEZONE
BEGIN:VEVENT
DTSTART;TZID=America/Indiana/Indianapolis:20230513T100000
DTEND;TZID=America/Indiana/Indianapolis:20230514T110000
DTSTAMP:20260420T132408
CREATED:20230323T172116Z
LAST-MODIFIED:20230428T202410Z
UID:811-1683972000-1684062000@mainstreetvineyard.org
SUMMARY:Mother's Day Outreach
DESCRIPTION:Mother’s Day Weekend Outreach Help spread a little cheer to Kinnley Court Residents this Mother’s Day Weekend and invite the kids.  We’ll be handing out flowers and offering prayers. Plan to meet at the Entrance of Kinnley Court 3650 Clark’s Creek Rd\, Plainfield. Contact Kim or Shirley for more information
URL:https://mainstreetvineyard.org/event/mothers-day-outreach/
CATEGORIES:Featured,Main Calendar
ATTACH;FMTTYPE=image/jpeg:https://mainstreetvineyard.org/wp-content/uploads/2023/04/Mother-Day-new-1-e1681153297414.jpg
END:VEVENT
BEGIN:VEVENT
DTSTART;TZID=America/Indiana/Indianapolis:20230519T190000
DTEND;TZID=America/Indiana/Indianapolis:20230519T210000
DTSTAMP:20260420T132408
CREATED:20230428T192357Z
LAST-MODIFIED:20230505T183840Z
UID:842-1684522800-1684530000@mainstreetvineyard.org
SUMMARY:Ladies Night Out
DESCRIPTION:Join us for our May Ladies Night Out at the home of Hillary Andrews – bring a lawn chair and a snack to share if you would like.  Come join in as we enjoy a night of laughs\, friendship and faith!  Contact Hillary at 317-995-3298 for more information.
URL:https://mainstreetvineyard.org/event/ladies-night-out-3/
CATEGORIES:Featured,Main Calendar
ATTACH;FMTTYPE=image/jpeg:https://mainstreetvineyard.org/wp-content/uploads/2023/03/Night-Out.jpg
END:VEVENT
BEGIN:VEVENT
DTSTART;TZID=America/Indiana/Indianapolis:20230521T180000
DTEND;TZID=America/Indiana/Indianapolis:20230521T200000
DTSTAMP:20260420T132408
CREATED:20230428T200259Z
LAST-MODIFIED:20230428T202101Z
UID:845-1684692000-1684699200@mainstreetvineyard.org
SUMMARY:Family Night Parrish Farm
DESCRIPTION:Family Night at the Parrish Farm on Sunday\, May 21 at 6:00 pm.  Join your church family for a fun evening of music\, a petting zoo\, games and a cookout.  Bring a side dish and your lawn chair !
URL:https://mainstreetvineyard.org/event/family-night-parrish-farm/
CATEGORIES:Featured,Main Calendar
ATTACH;FMTTYPE=image/jpeg:https://mainstreetvineyard.org/wp-content/uploads/2023/04/Family3-e1682713131337.jpg
END:VEVENT
END:VCALENDAR