BEGIN:VCALENDAR
VERSION:2.0
PRODID:-//Main Street Vineyard Church - Plainfield, Indiana - ECPv6.2.0.1//NONSGML v1.0//EN
CALSCALE:GREGORIAN
METHOD:PUBLISH
X-ORIGINAL-URL:https://mainstreetvineyard.org
X-WR-CALDESC:Events for Main Street Vineyard Church - Plainfield, Indiana
REFRESH-INTERVAL;VALUE=DURATION:PT1H
X-Robots-Tag:noindex
X-PUBLISHED-TTL:PT1H
BEGIN:VTIMEZONE
TZID:America/Indiana/Indianapolis
BEGIN:DAYLIGHT
TZOFFSETFROM:-0500
TZOFFSETTO:-0400
TZNAME:EDT
DTSTART:20230312T070000
END:DAYLIGHT
BEGIN:STANDARD
TZOFFSETFROM:-0400
TZOFFSETTO:-0500
TZNAME:EST
DTSTART:20231105T060000
END:STANDARD
END:VTIMEZONE
BEGIN:VEVENT
DTSTART;TZID=America/Indiana/Indianapolis:20230305T120000
DTEND;TZID=America/Indiana/Indianapolis:20230305T130000
DTSTAMP:20260420T164635
CREATED:20221219T165207Z
LAST-MODIFIED:20230223T155229Z
UID:653-1678017600-1678021200@mainstreetvineyard.org
SUMMARY:Partnership - Share
DESCRIPTION:If you are interested in becoming a Vineyard Church Parner join us following the church service To Experience\, Follow and Share Jesus and His Love. We will have pizza and childcare if needed
URL:https://mainstreetvineyard.org/event/partnership-share/
CATEGORIES:Featured,Main Calendar
ATTACH;FMTTYPE=image/jpeg:https://mainstreetvineyard.org/wp-content/uploads/2022/12/msvc-mission-EFS.jpg
END:VEVENT
BEGIN:VEVENT
DTSTART;TZID=America/Indiana/Indianapolis:20230311T170000
DTEND;TZID=America/Indiana/Indianapolis:20230311T193000
DTSTAMP:20260420T164635
CREATED:20230228T155655Z
LAST-MODIFIED:20230309T172115Z
UID:782-1678554000-1678563000@mainstreetvineyard.org
SUMMARY:Men's Cookout
DESCRIPTION:Join us at the Parrish Farm for a cookout and we will have a special guest\, a Christian Comedian Keith Blackburn!  Invite a friend for food\, faith and lots of laughs!
URL:https://mainstreetvineyard.org/event/mens-cookout/
CATEGORIES:Featured,Main Calendar
ATTACH;FMTTYPE=image/jpeg:https://mainstreetvineyard.org/wp-content/uploads/2023/03/Cookout6-e1678382317117.jpg
END:VEVENT
BEGIN:VEVENT
DTSTART;TZID=America/Indiana/Indianapolis:20230324T183000
DTEND;TZID=America/Indiana/Indianapolis:20230324T203000
DTSTAMP:20260420T164635
CREATED:20230307T155213Z
LAST-MODIFIED:20230309T162930Z
UID:794-1679682600-1679689800@mainstreetvineyard.org
SUMMARY:Ladies Night Out
DESCRIPTION:Join us at the home of Sabrina Dees for a fun evening of fellowship\, faith and some worship karaoke songs!   Bring a snack to share and invite a friend!  Contact Sabrina at (605) 525-6876 for the address.
URL:https://mainstreetvineyard.org/event/ladies-night-out/
CATEGORIES:Featured,Main Calendar
ATTACH;FMTTYPE=image/jpeg:https://mainstreetvineyard.org/wp-content/uploads/2023/03/Night-Out.jpg
END:VEVENT
END:VCALENDAR