BEGIN:VCALENDAR
VERSION:2.0
PRODID:-//Main Street Vineyard Church - Plainfield, Indiana - ECPv6.2.0.1//NONSGML v1.0//EN
CALSCALE:GREGORIAN
METHOD:PUBLISH
X-ORIGINAL-URL:https://mainstreetvineyard.org
X-WR-CALDESC:Events for Main Street Vineyard Church - Plainfield, Indiana
REFRESH-INTERVAL;VALUE=DURATION:PT1H
X-Robots-Tag:noindex
X-PUBLISHED-TTL:PT1H
BEGIN:VTIMEZONE
TZID:America/Indiana/Indianapolis
BEGIN:DAYLIGHT
TZOFFSETFROM:-0500
TZOFFSETTO:-0400
TZNAME:EDT
DTSTART:20250309T070000
END:DAYLIGHT
BEGIN:STANDARD
TZOFFSETFROM:-0400
TZOFFSETTO:-0500
TZNAME:EST
DTSTART:20251102T060000
END:STANDARD
END:VTIMEZONE
BEGIN:VEVENT
DTSTART;TZID=America/Indiana/Indianapolis:20250202T103000
DTEND;TZID=America/Indiana/Indianapolis:20250202T120000
DTSTAMP:20260419T020215
CREATED:20250128T163338Z
LAST-MODIFIED:20250128T163338Z
UID:1147-1738492200-1738497600@mainstreetvineyard.org
SUMMARY:Sunday Morning Service
DESCRIPTION:Come join us!!  Live Band followed by inspirational Biblical teaching.  Childcare and Children’s Church are available during the service. Free coffee bar.
URL:https://mainstreetvineyard.org/event/sunday-morning-service/
CATEGORIES:Featured,Main Calendar
ATTACH;FMTTYPE=image/png:https://mainstreetvineyard.org/wp-content/uploads/2022/12/Cross.png
END:VEVENT
END:VCALENDAR