BEGIN:VCALENDAR
VERSION:2.0
PRODID:-//Main Street Vineyard Church - Plainfield, Indiana - ECPv6.2.0.1//NONSGML v1.0//EN
CALSCALE:GREGORIAN
METHOD:PUBLISH
X-ORIGINAL-URL:https://mainstreetvineyard.org
X-WR-CALDESC:Events for Main Street Vineyard Church - Plainfield, Indiana
REFRESH-INTERVAL;VALUE=DURATION:PT1H
X-Robots-Tag:noindex
X-PUBLISHED-TTL:PT1H
BEGIN:VTIMEZONE
TZID:America/Indiana/Indianapolis
BEGIN:DAYLIGHT
TZOFFSETFROM:-0500
TZOFFSETTO:-0400
TZNAME:EDT
DTSTART:20240310T070000
END:DAYLIGHT
BEGIN:STANDARD
TZOFFSETFROM:-0400
TZOFFSETTO:-0500
TZNAME:EST
DTSTART:20241103T060000
END:STANDARD
END:VTIMEZONE
BEGIN:VEVENT
DTSTART;TZID=America/Indiana/Indianapolis:20241224T170000
DTEND;TZID=America/Indiana/Indianapolis:20241224T200000
DTSTAMP:20260418T085151
CREATED:20241208T175232Z
LAST-MODIFIED:20241208T175501Z
UID:1132-1735059600-1735070400@mainstreetvineyard.org
SUMMARY:Christmas Eve Service
DESCRIPTION:Doors will be open at 5:00pm. This year we will be sharing appetizers\, finger foods\, dips\, and holiday goodies. Bring your favorite holiday treats to share! Our Candlelight Service will begin at 6:30pm. Come join us as we celebrate the birth of our Savior.
URL:https://mainstreetvineyard.org/event/christmas-eve-service-2/
CATEGORIES:Featured,Main Calendar
ATTACH;FMTTYPE=image/jpeg:https://mainstreetvineyard.org/wp-content/uploads/2023/12/ChristmasService5-1-e1701710186296.jpg
END:VEVENT
END:VCALENDAR