BEGIN:VCALENDAR
VERSION:2.0
PRODID:-//Main Street Vineyard Church - Plainfield, Indiana - ECPv6.2.0.1//NONSGML v1.0//EN
CALSCALE:GREGORIAN
METHOD:PUBLISH
X-ORIGINAL-URL:https://mainstreetvineyard.org
X-WR-CALDESC:Events for Main Street Vineyard Church - Plainfield, Indiana
REFRESH-INTERVAL;VALUE=DURATION:PT1H
X-Robots-Tag:noindex
X-PUBLISHED-TTL:PT1H
BEGIN:VTIMEZONE
TZID:America/Indiana/Indianapolis
BEGIN:DAYLIGHT
TZOFFSETFROM:-0500
TZOFFSETTO:-0400
TZNAME:EDT
DTSTART:20230312T070000
END:DAYLIGHT
BEGIN:STANDARD
TZOFFSETFROM:-0400
TZOFFSETTO:-0500
TZNAME:EST
DTSTART:20231105T060000
END:STANDARD
END:VTIMEZONE
BEGIN:VEVENT
DTSTART;TZID=America/Indiana/Indianapolis:20230301T080000
DTEND;TZID=America/Indiana/Indianapolis:20230304T170000
DTSTAMP:20260419T035249
CREATED:20221219T173003Z
LAST-MODIFIED:20221219T173003Z
UID:666-1677657600-1677949200@mainstreetvineyard.org
SUMMARY:More Love More Power 2023 Conference
DESCRIPTION:The theme this year is For They Shall See at The Vineyard Church of Cental Illinois. \nRegister at: https://brushfire.com/thevineyardchurch/events/518141 \n 
URL:https://mainstreetvineyard.org/event/more-love-more-power-2023-conference/
CATEGORIES:Main Calendar
ATTACH;FMTTYPE=image/jpeg:https://mainstreetvineyard.org/wp-content/uploads/2022/12/download-1.jpg
END:VEVENT
END:VCALENDAR